Name | Last modified | Size | Description | |
---|---|---|---|---|
Parent Directory | - | |||
buildsrc-out.txt | 29-Mar-2024 00:36 | 901 | ||
buildsrc-summary.dcf | 29-Mar-2024 00:36 | 441 | ||
checksrc-out.txt | 29-Mar-2024 00:36 | 4.3K | ||
checksrc-summary.dcf | 29-Mar-2024 00:36 | 452 | ||
install-out.txt | 29-Mar-2024 00:36 | 2.5K | ||
install-summary.dcf | 29-Mar-2024 00:36 | 275 | ||