Name | Last modified | Size | Description | |
---|---|---|---|---|
Parent Directory | - | |||
install-out.txt | 27-Jul-2024 00:40 | 2.5K | ||
install-summary.dcf | 27-Jul-2024 00:40 | 285 | ||
buildsrc-summary.dcf | 27-Jul-2024 00:40 | 451 | ||
buildsrc-out.txt | 27-Jul-2024 00:40 | 911 | ||
checksrc-out.txt | 27-Jul-2024 00:40 | 4.4K | ||
checksrc-summary.dcf | 27-Jul-2024 00:40 | 482 | ||
buildbin-out.txt | 27-Jul-2024 00:40 | 2.8K | ||
buildbin-summary.dcf | 27-Jul-2024 00:40 | 578 | ||