Name | Last modified | Size | Description | |
---|---|---|---|---|
Parent Directory | - | |||
install-summary.dcf | 28-Jul-2024 00:42 | 285 | ||
install-out.txt | 28-Jul-2024 00:42 | 2.5K | ||
checksrc-summary.dcf | 28-Jul-2024 00:42 | 482 | ||
checksrc-out.txt | 28-Jul-2024 00:42 | 4.2K | ||
buildsrc-summary.dcf | 28-Jul-2024 00:42 | 451 | ||
buildsrc-out.txt | 28-Jul-2024 00:42 | 911 | ||
buildbin-summary.dcf | 28-Jul-2024 00:42 | 576 | ||
buildbin-out.txt | 28-Jul-2024 00:42 | 2.8K | ||