![]() | Name | Last modified | Size | Description |
---|---|---|---|---|
![]() | Parent Directory | - | ||
![]() | buildbin-out.txt | 24-Sep-2023 00:37 | 2.2K | |
![]() | buildbin-summary.dcf | 24-Sep-2023 00:37 | 545 | |
![]() | buildsrc-out.txt | 24-Sep-2023 00:37 | 896 | |
![]() | buildsrc-summary.dcf | 24-Sep-2023 00:37 | 472 | |
![]() | checksrc-out.txt | 24-Sep-2023 00:37 | 4.0K | |
![]() | checksrc-summary.dcf | 24-Sep-2023 00:37 | 467 | |
![]() | install-out.txt | 24-Sep-2023 00:37 | 2.0K | |
![]() | install-summary.dcf | 24-Sep-2023 00:37 | 278 | |