![]() | Name | Last modified | Size | Description |
---|---|---|---|---|
![]() | Parent Directory | - | ||
![]() | buildsrc-out.txt | 24-Sep-2023 00:36 | 856 | |
![]() | buildsrc-summary.dcf | 24-Sep-2023 00:36 | 432 | |
![]() | checksrc-out.txt | 24-Sep-2023 00:36 | 3.6K | |
![]() | checksrc-summary.dcf | 24-Sep-2023 00:36 | 434 | |
![]() | install-out.txt | 24-Sep-2023 00:36 | 1.9K | |
![]() | install-summary.dcf | 24-Sep-2023 00:36 | 269 | |