Back to Multiple platform build/check report for BioC 3.13
A[B]CDEFGHIJKLMNOPQRSTUVWXYZ

BUILD report for BiocIO on riesling1

This page was generated on 2021-01-25 12:38:32 -0500 (Mon, 25 Jan 2021).

TO THE DEVELOPERS/MAINTAINERS OF THE BiocIO PACKAGE: Please make sure to use the following settings in order to reproduce any error or warning you see on this page.
Package 160/1938HostnameOS / ArchINSTALLBUILDCHECKBUILD BIN
BiocIO 1.1.2
Bioconductor Package Maintainer
Snapshot Date: 2021-01-24 14:40:26 -0500 (Sun, 24 Jan 2021)
URL: https://git.bioconductor.org/packages/BiocIO
Branch: master
Last Commit: e456aae
Last Changed Date: 2020-12-05 05:05:53 -0500 (Sat, 05 Dec 2020)
malbec2 Linux (Ubuntu 20.04.1 LTS) / x86_64  OK  OK  OK UNNEEDED, same version exists in internal repository
tokay2 Windows Server 2012 R2 Standard / x64  OK  OK  WARNINGS  OK UNNEEDED, same version exists in internal repository
riesling1 Windows Server 2019 Standard / x64  OK [ OK ] WARNINGS  OK 
machv2 macOS 10.14.6 Mojave / x86_64  OK  OK  OK  OK UNNEEDED, same version exists in internal repository

Summary

Package: BiocIO
Version: 1.1.2
Command: chmod a+r BiocIO -R && D:\biocbuild\bbs-3.13-bioc\R\bin\R.exe CMD build --keep-empty-dirs --no-resave-data BiocIO
StartedAt: 2021-01-24 17:36:11 -0500 (Sun, 24 Jan 2021)
EndedAt: 2021-01-24 17:37:01 -0500 (Sun, 24 Jan 2021)
EllapsedTime: 50.1 seconds
RetCode: 0
Status:  OK  
PackageFile: BiocIO_1.1.2.tar.gz
PackageFileSize: 225.7 KiB

Command output

##############################################################################
##############################################################################
###
### Running command:
###
###   chmod a+r BiocIO -R && D:\biocbuild\bbs-3.13-bioc\R\bin\R.exe CMD build --keep-empty-dirs --no-resave-data BiocIO
###
##############################################################################
##############################################################################


* checking for file 'BiocIO/DESCRIPTION' ... OK
* preparing 'BiocIO':
* checking DESCRIPTION meta-information ... OK
* installing the package to build vignettes
* creating vignettes ... OK
* checking for LF line-endings in source and make files and shell scripts
* checking for empty or unneeded directories
* building 'BiocIO_1.1.2.tar.gz'