Index of /checkResults/devel/bioc-LATEST/BiocHail/raw-results
Name
Last modified
Size
Description
Parent Directory
-
info.dcf
09-May-2024 00:35
272
nebbiolo2/
09-May-2024 00:36
-