Back to Multiple platform build/check report for BioC 3.16
A[B]CDEFGHIJKLMNOPQRSTUVWXYZ

This page was generated on 2022-06-24 11:06:07 -0400 (Fri, 24 Jun 2022).

HostnameOSArch (*)R versionInstalled pkgs
nebbiolo2Linux (Ubuntu 20.04.4 LTS)x86_644.2.0 Patched (2022-06-02 r82447) -- "Vigorous Calisthenics" 4331
palomino4Windows Server 2022 Datacenterx644.2.0 Patched (2022-06-02 r82447 ucrt) -- "Vigorous Calisthenics" 4136
lconwaymacOS 12.2.1 Montereyx86_644.2.0 Patched (2022-05-29 r82424) -- "Vigorous Calisthenics" 4147
Click on any hostname to see more info about the system (e.g. compilers)      (*) as reported by 'uname -p', except on Windows and Mac OS X

INSTALL results for BiocCheck on palomino4


To the developers/maintainers of the BiocCheck package:
- Please allow up to 24 hours (and sometimes 48 hours) for your latest push to git@git.bioconductor.org:packages/BiocCheck.git to
reflect on this report. See How and When does the builder pull? When will my changes propagate? for more information.
- Make sure to use the following settings in order to reproduce any error or warning you see on this page.

raw results

Package 156/2118HostnameOS / ArchINSTALLBUILDCHECKBUILD BIN
BiocCheck 1.33.10  (landing page)
Bioconductor Package Maintainer
Snapshot Date: 2022-06-23 14:00:04 -0400 (Thu, 23 Jun 2022)
git_url: https://git.bioconductor.org/packages/BiocCheck
git_branch: master
git_last_commit: 620c128
git_last_commit_date: 2022-06-23 12:16:15 -0400 (Thu, 23 Jun 2022)
nebbiolo2Linux (Ubuntu 20.04.4 LTS) / x86_64  OK    OK    OK  YES
palomino4Windows Server 2022 Datacenter / x64  OK    OK    OK    OK  YES
lconwaymacOS 12.2.1 Monterey / x86_64  OK    OK    OK    OK  YES

Summary

Package: BiocCheck
Version: 1.33.10
Command: C:\cygwin\bin\curl.exe -O http://155.52.207.166/BBS/3.16/bioc/src/contrib/BiocCheck_1.33.10.tar.gz && rm -rf BiocCheck.buildbin-libdir && mkdir BiocCheck.buildbin-libdir && F:\biocbuild\bbs-3.16-bioc\R\bin\R.exe CMD INSTALL --merge-multiarch --build --library=BiocCheck.buildbin-libdir BiocCheck_1.33.10.tar.gz && F:\biocbuild\bbs-3.16-bioc\R\bin\R.exe CMD INSTALL BiocCheck_1.33.10.zip && rm BiocCheck_1.33.10.tar.gz BiocCheck_1.33.10.zip
StartedAt: 2022-06-23 15:49:11 -0400 (Thu, 23 Jun 2022)
EndedAt: 2022-06-23 15:49:49 -0400 (Thu, 23 Jun 2022)
EllapsedTime: 37.8 seconds
RetCode: 0
Status:   OK  

Command output

##############################################################################
##############################################################################
###
### Running command:
###
###   C:\cygwin\bin\curl.exe -O http://155.52.207.166/BBS/3.16/bioc/src/contrib/BiocCheck_1.33.10.tar.gz && rm -rf BiocCheck.buildbin-libdir && mkdir BiocCheck.buildbin-libdir && F:\biocbuild\bbs-3.16-bioc\R\bin\R.exe CMD INSTALL --merge-multiarch --build --library=BiocCheck.buildbin-libdir BiocCheck_1.33.10.tar.gz && F:\biocbuild\bbs-3.16-bioc\R\bin\R.exe CMD INSTALL BiocCheck_1.33.10.zip && rm BiocCheck_1.33.10.tar.gz BiocCheck_1.33.10.zip
###
##############################################################################
##############################################################################


  % Total    % Received % Xferd  Average Speed   Time    Time     Time  Current
                                 Dload  Upload   Total   Spent    Left  Speed

  0     0    0     0    0     0      0      0 --:--:-- --:--:-- --:--:--     0
 24 4035k   24  979k    0     0  4923k      0 --:--:-- --:--:-- --:--:-- 4921k
100 4035k  100 4035k    0     0  7324k      0 --:--:-- --:--:-- --:--:-- 7323k
only one architecture so ignoring '--merge-multiarch'
* installing *source* package 'BiocCheck' ...
** using staged installation
** R
** inst
** byte-compile and prepare package for lazy loading
** help
*** installing help indices
** building package indices
** installing vignettes
** testing if installed package can be loaded from temporary location
** testing if installed package can be loaded from final location
** testing if installed package keeps a record of temporary installation path
* MD5 sums
packaged installation of 'BiocCheck' as BiocCheck_1.33.10.zip
* DONE (BiocCheck)
* installing to library 'F:/biocbuild/bbs-3.16-bioc/R/library'
package 'BiocCheck' successfully unpacked and MD5 sums checked