Back to Multiple platform build/check report for BioC 3.15
A[B]CDEFGHIJKLMNOPQRSTUVWXYZ

This page was generated on 2022-01-22 11:06:55 -0500 (Sat, 22 Jan 2022).

HostnameOSArch (*)R versionInstalled pkgs
nebbiolo1Linux (Ubuntu 20.04.4 LTS)x86_64R Under development (unstable) (2022-01-05 r81451) -- "Unsuffered Consequences" 4163
riesling1Windows Server 2019 Standardx64R Under development (unstable) (2021-11-21 r81221) -- "Unsuffered Consequences" 4058
palomino3Windows Server 2022 Datacenterx64R Under development (unstable) (2021-12-21 r81400 ucrt) -- "Unsuffered Consequences" 4000
merida1macOS 10.14.6 Mojavex86_64R Under development (unstable) (2022-01-05 r81451) -- "Unsuffered Consequences" 4117
Click on any hostname to see more info about the system (e.g. compilers)      (*) as reported by 'uname -p', except on Windows and Mac OS X

INSTALL results for BioTIP on riesling1


To the developers/maintainers of the BioTIP package:
- Please allow up to 24 hours (and sometimes 48 hours) for your latest push to git@git.bioconductor.org:packages/BioTIP.git to
reflect on this report. See How and When does the builder pull? When will my changes propagate? here for more information.
- Make sure to use the following settings in order to reproduce any error or warning you see on this page.

raw results

Package 191/2075HostnameOS / ArchINSTALLBUILDCHECKBUILD BIN
BioTIP 1.9.1  (landing page)
Yuxi (Jennifer) Sun , Zhezhen Wang , and X Holly Yang
Snapshot Date: 2022-01-21 13:55:18 -0500 (Fri, 21 Jan 2022)
git_url: https://git.bioconductor.org/packages/BioTIP
git_branch: master
git_last_commit: a9b0ccc
git_last_commit_date: 2021-11-17 15:20:20 -0500 (Wed, 17 Nov 2021)
nebbiolo1Linux (Ubuntu 20.04.4 LTS) / x86_64  OK    OK    WARNINGS  UNNEEDED, same version is already published
riesling1Windows Server 2019 Standard / x64  OK    OK    NA    NA  
palomino3Windows Server 2022 Datacenter / x64  OK    OK    WARNINGS    OK  NO, package depends on 'GenomicRanges' which is not available
merida1macOS 10.14.6 Mojave / x86_64  OK    OK    WARNINGS    OK  UNNEEDED, same version is already published

Summary

Package: BioTIP
Version: 1.9.1
Command: D:\biocbuild\bbs-3.15-bioc\R\bin\R.exe CMD INSTALL BioTIP
StartedAt: 2022-01-21 15:50:04 -0500 (Fri, 21 Jan 2022)
EndedAt: 2022-01-21 15:50:55 -0500 (Fri, 21 Jan 2022)
EllapsedTime: 50.8 seconds
RetCode: 0
Status:   OK  

Command output

##############################################################################
##############################################################################
###
### Running command:
###
###   D:\biocbuild\bbs-3.15-bioc\R\bin\R.exe CMD INSTALL BioTIP
###
##############################################################################
##############################################################################


* installing to library 'D:/biocbuild/bbs-3.15-bioc/R/library'
* installing *source* package 'BioTIP' ...
** using staged installation
** R
** data
*** moving datasets to lazyload DB
** byte-compile and prepare package for lazy loading
** help
*** installing help indices
  converting help for package 'BioTIP'
    finding HTML links ... done
    BioTIP-package                          html  
    GSE6136_cli                             html  
    GSE6136_matrix                          html  
    ILEF                                    html  
    avg.cor.shrink                          html  
    cod                                     html  
    cor.shrink                              html  
    gencode                                 html  
    getBiotypes                             html  
    getCTS                                  html  
    getCluster_methods                      html  
    getIc                                   html  
    getIc.new                               html  
    getMCI                                  html  
    finding level-2 HTML links ... done

    getMCI_inner                            html  
    getMaxMCImember                         html  
    getMaxStats                             html  
    getNetwork                              html  
    getReadthrough                          html  
    intron                                  html  
    optimize.sd_selection                   html  
    plotBar_MCI                             html  
    plotIc                                  html  
    plotMaxMCI                              html  
    plot_Ic_Simulation                      html  
    plot_MCI_Simulation                     html  
    plot_SS_Simulation                      html  
    sd_selection                            html  
    simulationMCI                           html  
    simulation_Ic                           html  
    simulation_Ic_sample                    html  
** building package indices
** installing vignettes
** testing if installed package can be loaded from temporary location
** testing if installed package can be loaded from final location
** testing if installed package keeps a record of temporary installation path
* DONE (BioTIP)
Making 'packages.html' ...Warning in packageDescription(i, lib.loc = lib, fields = "Title", encoding = "UTF-8") :
  DESCRIPTION file of package 'MultiDataSet' is missing or broken
Warning in packageDescription(i, lib.loc = lib, fields = "Title", encoding = "UTF-8") :
  DESCRIPTION file of package 'spikeLI' is missing or broken
 done