![]() | Name | Last modified | Size | Description |
---|---|---|---|---|
![]() | Parent Directory | - | ||
![]() | buildbin-out.txt | 03-Oct-2023 00:37 | 1.1K | |
![]() | buildbin-summary.dcf | 03-Oct-2023 00:37 | 509 | |
![]() | buildsrc-out.txt | 03-Oct-2023 00:37 | 77K | |
![]() | buildsrc-summary.dcf | 03-Oct-2023 00:37 | 449 | |
![]() | checksrc-out.txt | 03-Oct-2023 00:37 | 48K | |
![]() | checksrc-summary.dcf | 03-Oct-2023 00:37 | 449 | |
![]() | install-out.txt | 03-Oct-2023 00:37 | 1.0K | |
![]() | install-summary.dcf | 03-Oct-2023 00:37 | 266 | |