Index of /checkResults/devel/bioc-LATEST/BioTIP/raw-results/palomino3

[ICO]NameLast modifiedSizeDescription

[DIR]Parent Directory  -  
[TXT]buildbin-out.txt02-Mar-2024 01:37 1.1K 
[   ]buildbin-summary.dcf02-Mar-2024 01:37 509  
[TXT]buildsrc-out.txt02-Mar-2024 01:37 834  
[   ]buildsrc-summary.dcf02-Mar-2024 01:37 449  
[TXT]checksrc-out.txt02-Mar-2024 01:37 15K 
[   ]checksrc-summary.dcf02-Mar-2024 01:37 449  
[TXT]install-out.txt02-Mar-2024 01:37 1.0K 
[   ]install-summary.dcf02-Mar-2024 01:37 266