Index of /checkResults/devel/bioc-LATEST/BioTIP/raw-results/nebbiolo2

[ICO]NameLast modifiedSizeDescription

[DIR]Parent Directory  -  
[TXT]buildsrc-out.txt28-Sep-2023 00:36 77K 
[   ]buildsrc-summary.dcf28-Sep-2023 00:36 414  
[TXT]checksrc-out.txt28-Sep-2023 00:36 48K 
[   ]checksrc-summary.dcf28-Sep-2023 00:36 416  
[TXT]install-out.txt28-Sep-2023 00:36 1.0K 
[   ]install-summary.dcf28-Sep-2023 00:36 257