Index of /checkResults/devel/bioc-LATEST/BioTIP/raw-results/nebbiolo1

[ICO]NameLast modifiedSizeDescription

[DIR]Parent Directory  -  
[TXT]buildsrc-out.txt23-Feb-2024 02:48 802  
[   ]buildsrc-summary.dcf23-Feb-2024 02:48 414  
[TXT]checksrc-out.txt23-Feb-2024 02:48 15K 
[   ]checksrc-summary.dcf23-Feb-2024 02:48 416  
[TXT]install-out.txt23-Feb-2024 02:48 1.0K 
[   ]install-summary.dcf23-Feb-2024 02:48 257