![]() | Name | Last modified | Size | Description |
---|---|---|---|---|
![]() | Parent Directory | - | ||
![]() | buildsrc-out.txt | 30-Nov-2023 01:37 | 811 | |
![]() | buildsrc-summary.dcf | 30-Nov-2023 01:37 | 424 | |
![]() | checksrc-out.txt | 30-Nov-2023 01:37 | 15K | |
![]() | checksrc-summary.dcf | 30-Nov-2023 01:37 | 449 | |
![]() | install-out.txt | 30-Nov-2023 01:37 | 1.0K | |
![]() | install-summary.dcf | 30-Nov-2023 01:37 | 266 | |