Index of /checkResults/devel/bioc-LATEST/BioTIP/raw-results

[ICO]NameLast modifiedSizeDescription

[DIR]Parent Directory  -  
[DIR]kunpeng2/30-Nov-2023 01:37 -  
[   ]info.dcf30-Nov-2023 01:37 1.3K 
[DIR]merida1/30-Nov-2023 01:36 -  
[DIR]palomino3/30-Nov-2023 01:35 -  
[DIR]nebbiolo1/30-Nov-2023 01:34 -