Index of /checkResults/devel/bioc-LATEST/BioPlex/raw-results
Name
Last modified
Size
Description
Parent Directory
-
info.dcf
12-Jul-2022 00:06
284
kjohnson/
12-Jul-2022 00:06
-
lconway/
12-Jul-2022 00:05
-
nebbiolo2/
12-Jul-2022 00:04
-
palomino4/
09-Jul-2022 00:57
-