Back to Multiple platform build/check report for BioC 3.15
A[B]CDEFGHIJKLMNOPQRSTUVWXYZ

This page was generated on 2022-01-20 11:06:50 -0500 (Thu, 20 Jan 2022).

HostnameOSArch (*)R versionInstalled pkgs
nebbiolo1Linux (Ubuntu 20.04.4 LTS)x86_64R Under development (unstable) (2022-01-05 r81451) -- "Unsuffered Consequences" 4162
riesling1Windows Server 2019 Standardx64R Under development (unstable) (2021-11-21 r81221) -- "Unsuffered Consequences" 4057
palomino3Windows Server 2022 Datacenterx64R Under development (unstable) (2021-12-21 r81400 ucrt) -- "Unsuffered Consequences" 3999
merida1macOS 10.14.6 Mojavex86_64R Under development (unstable) (2022-01-05 r81451) -- "Unsuffered Consequences" 4116
Click on any hostname to see more info about the system (e.g. compilers)      (*) as reported by 'uname -p', except on Windows and Mac OS X

CHECK results for BioNet on riesling1


To the developers/maintainers of the BioNet package:
- Please allow up to 24 hours (and sometimes 48 hours) for your latest push to git@git.bioconductor.org:packages/BioNet.git to
reflect on this report. See How and When does the builder pull? When will my changes propagate? here for more information.
- Make sure to use the following settings in order to reproduce any error or warning you see on this page.

raw results

Package 185/2074HostnameOS / ArchINSTALLBUILDCHECKBUILD BIN
BioNet 1.55.0  (landing page)
Marcus Dittrich
Snapshot Date: 2022-01-19 13:55:26 -0500 (Wed, 19 Jan 2022)
git_url: https://git.bioconductor.org/packages/BioNet
git_branch: master
git_last_commit: 79979a9
git_last_commit_date: 2021-10-26 11:56:40 -0500 (Tue, 26 Oct 2021)
nebbiolo1Linux (Ubuntu 20.04.4 LTS) / x86_64  OK    OK    OK  UNNEEDED, same version is already published
riesling1Windows Server 2019 Standard / x64  OK    OK    OK    OK  
palomino3Windows Server 2022 Datacenter / x64  OK    OK    OK    OK  NO, package depends on 'graph' which is not available
merida1macOS 10.14.6 Mojave / x86_64  OK    OK    OK    OK  UNNEEDED, same version is already published

Summary

Package: BioNet
Version: 1.55.0
Command: D:\biocbuild\bbs-3.15-bioc\R\bin\R.exe CMD check --no-multiarch --install=check:BioNet.install-out.txt --library=D:\biocbuild\bbs-3.15-bioc\R\library --no-vignettes --timings BioNet_1.55.0.tar.gz
StartedAt: 2022-01-19 18:21:49 -0500 (Wed, 19 Jan 2022)
EndedAt: 2022-01-19 18:23:56 -0500 (Wed, 19 Jan 2022)
EllapsedTime: 127.1 seconds
RetCode: 0
Status:   OK  
CheckDir: BioNet.Rcheck
Warnings: 0

Command output

##############################################################################
##############################################################################
###
### Running command:
###
###   D:\biocbuild\bbs-3.15-bioc\R\bin\R.exe CMD check --no-multiarch --install=check:BioNet.install-out.txt --library=D:\biocbuild\bbs-3.15-bioc\R\library --no-vignettes --timings BioNet_1.55.0.tar.gz
###
##############################################################################
##############################################################################


* using log directory 'D:/biocbuild/bbs-3.15-bioc/meat/BioNet.Rcheck'
* using R Under development (unstable) (2021-11-21 r81221)
* using platform: x86_64-w64-mingw32 (64-bit)
* using session charset: ISO8859-1
* using option '--no-vignettes'
* checking for file 'BioNet/DESCRIPTION' ... OK
* checking extension type ... Package
* this is package 'BioNet' version '1.55.0'
* checking package namespace information ... OK
* checking package dependencies ... OK
* checking if this is a source package ... OK
* checking if there is a namespace ... OK
* checking for hidden files and directories ... OK
* checking for portable file names ... OK
* checking whether package 'BioNet' can be installed ... OK
* checking installed package size ... OK
* checking package directory ... OK
* checking 'build' directory ... OK
* checking DESCRIPTION meta-information ... OK
* checking top-level files ... OK
* checking for left-over files ... OK
* checking index information ... OK
* checking package subdirectories ... OK
* checking R files for non-ASCII characters ... OK
* checking R files for syntax errors ... OK
* checking whether the package can be loaded ... OK
* checking whether the package can be loaded with stated dependencies ... OK
* checking whether the package can be unloaded cleanly ... OK
* checking whether the namespace can be loaded with stated dependencies ... OK
* checking whether the namespace can be unloaded cleanly ... OK
* checking dependencies in R code ... NOTE
Packages in Depends field not imported from:
  'RBGL' 'graph'
  These packages need to be imported from (in the NAMESPACE file)
  for when this namespace is loaded but not attached.
* checking S3 generic/method consistency ... OK
* checking replacement functions ... OK
* checking foreign function calls ... OK
* checking R code for possible problems ... NOTE
.XGMML.edges: no visible global function definition for 'is'
.XGMML.nodes: no visible global function definition for 'is'
.add.edge.attrs: no visible global function definition for 'read.table'
.add.node.attrs: no visible global function definition for 'read.table'
.affyID2ppiID: no visible global function definition for 'is'
.affyID2ppiID: no visible global function definition for 'nodeData'
.graph.eda: no visible global function definition for 'is'
.graph.eda: no visible global function definition for 'write.table'
.graph.noa: no visible global function definition for 'is'
.graph.noa: no visible global function definition for 'write.table'
.graph.sif: no visible global function definition for 'write.table'
.graph.table: no visible global function definition for 'write.table'
.node.color: no visible global function definition for
  'colorRampPalette'
.saveGraph.net: no visible global function definition for 'nodes'
.saveGraph.net: no visible global function definition for 'write.table'
.saveGraph.net: no visible global function definition for 'isDirected'
.saveGraph.net: no visible global function definition for 'eWV'
.saveGraph.net: no visible global function definition for 'edgeMatrix'
.saveGraph.tab: no visible global function definition for 'edgeNames'
.saveGraph.tgf: no visible global function definition for 'write.table'
.saveGraph.tgf: no visible global function definition for 'nodes'
.saveGraph.tgf: no visible global function definition for 'eWV'
.saveGraph.tgf: no visible global function definition for 'edgeMatrix'
.subNetwork0: no visible global function definition for 'is'
.subNetwork0: no visible global function definition for 'na.omit'
.subNetwork0: no visible global function definition for 'subGraph'
.subNetwork0: no visible global function definition for 'nodes'
.subNetwork1: no visible global function definition for 'is'
.subNetwork1: no visible global function definition for 'na.omit'
.subNetwork1: no visible global function definition for 'adj'
.subNetwork1: no visible global function definition for 'subGraph'
.subNetwork1: no visible global function definition for 'nodes'
aggrPvals: no visible global function definition for 'pbeta'
aggrPvals: no visible global function definition for 'hist'
aggrPvals: no visible global function definition for 'par'
bumOptim: no visible global function definition for 'runif'
bumOptim: no visible global function definition for 'optim'
compareNetworks: no visible global function definition for 'is'
compareNetworks: no visible global function definition for 'hist'
compareNetworks: no visible global function definition for 'points'
compareNetworks: no visible global function definition for 'legend'
consensusScores: no visible global function definition for 'is'
consensusScores : <anonymous>: no visible global function definition
  for 'nodes'
consensusScores: no visible global function definition for 'numNodes'
consensusScores: no visible global function definition for 'nodes'
consensusScores: no visible global function definition for 'numEdges'
fitBumModel: no visible global function definition for 'par'
fitBumModel: no visible global function definition for 'hist'
getCompScores: no visible global function definition for 'is'
getCompScores: no visible global function definition for 'connComp'
getEdgeList: no visible global function definition for 'is'
getEdgeList: no visible global function definition for 'edgeMatrix'
getEdgeList: no visible global function definition for 'nodes'
hist.bum: no visible global function definition for 'hist'
hist.bum: no visible global function definition for 'lines'
hist.bum: no visible global function definition for 'abline'
hist.bum: no visible global function definition for 'axis'
largestComp: no visible global function definition for 'is'
largestComp: no visible global function definition for 'connectedComp'
largestComp: no visible global function definition for 'subGraph'
largestScoreComp: no visible global function definition for 'is'
largestScoreComp: no visible global function definition for 'na.omit'
largestScoreComp: no visible global function definition for 'nodes'
largestScoreComp: no visible global function definition for 'subGraph'
loadNetwork.sif: no visible global function definition for 'read.table'
loadNetwork.tab: no visible global function definition for 'new'
loadNetwork.tab: no visible global function definition for 'addEdge'
makeNetwork: no visible global function definition for 'new'
makeNetwork: no visible global function definition for 'addEdge'
permutateNodes: no visible global function definition for 'is'
permutateNodes: no visible global function definition for 'nodes<-'
permutateNodes: no visible global function definition for 'nodes'
plot.bum: no visible binding for global variable 'uniroot'
plot.bum: no visible global function definition for 'lines'
plot3dModule: no visible global function definition for 'is'
plot3dModule: no visible global function definition for 'rgl.open'
plot3dModule: no visible global function definition for 'par3d'
plot3dModule: no visible global function definition for 'rgl.texts'
plot3dModule: no visible global function definition for 'rgl.bg'
plotLLSurface: no visible binding for global variable 'heat.colors'
plotLLSurface: no visible global function definition for
  'filled.contour'
plotLLSurface: no visible global function definition for 'axis'
plotLLSurface: no visible global function definition for 'abline'
plotLLSurface: no visible global function definition for 'strheight'
plotLLSurface: no visible global function definition for 'points'
plotLLSurface: no visible global function definition for 'text'
plotModule: no visible global function definition for 'is'
readHeinzGraph: no visible global function definition for 'is'
readHeinzGraph: no visible global function definition for 'read.table'
readHeinzTree: no visible global function definition for 'read.table'
readHeinzTree: no visible global function definition for 'is'
readHeinzTree: no visible global function definition for 'edgeNames'
readHeinzTree: no visible global function definition for 'removeEdge'
resamplingPvalues: no visible global function definition for
  'rowttests'
resamplingPvalues: no visible binding for global variable 'var'
resamplingPvalues: no visible global function definition for 'pt'
rmSelfLoops: no visible global function definition for 'is'
rmSelfLoops: no visible global function definition for 'edgeNames'
rmSelfLoops: no visible global function definition for 'numEdges'
rmSelfLoops: no visible global function definition for 'removeEdge'
runFastHeinz: no visible global function definition for 'is'
save3dModule: no visible global function definition for 'rgl.bg'
save3dModule: no visible global function definition for
  'rgl.postscript'
saveNetwork: no visible global function definition for 'is'
scoreNodes: no visible global function definition for 'is'
scoreNodes: no visible global function definition for 'nodes'
sortedEdgeList: no visible global function definition for 'is'
sortedEdgeList: no visible global function definition for 'isDirected'
writeHeinz: no visible global function definition for 'is'
writeHeinzEdges: no visible global function definition for 'is'
writeHeinzEdges: no visible global function definition for
  'write.table'
writeHeinzNodes: no visible global function definition for 'is'
writeHeinzNodes: no visible global function definition for
  'write.table'
Undefined global functions or variables:
  abline addEdge adj axis colorRampPalette connComp connectedComp eWV
  edgeMatrix edgeNames filled.contour heat.colors hist is isDirected
  legend lines na.omit new nodeData nodes nodes<- numEdges numNodes
  optim par par3d pbeta points pt read.table removeEdge rgl.bg rgl.open
  rgl.postscript rgl.texts rowttests runif strheight subGraph text
  uniroot var write.table
Consider adding
  importFrom("grDevices", "colorRampPalette", "heat.colors")
  importFrom("graphics", "abline", "axis", "filled.contour", "hist",
             "legend", "lines", "par", "points", "strheight", "text")
  importFrom("methods", "is", "new")
  importFrom("stats", "na.omit", "optim", "pbeta", "pt", "runif",
             "uniroot", "var")
  importFrom("utils", "read.table", "write.table")
to your NAMESPACE file (and ensure that your DESCRIPTION Imports field
contains 'methods').
* checking Rd files ... OK
* checking Rd metadata ... OK
* checking Rd cross-references ... OK
* checking for missing documentation entries ... OK
* checking for code/documentation mismatches ... OK
* checking Rd \usage sections ... OK
* checking Rd contents ... OK
* checking for unstated dependencies in examples ... OK
* checking contents of 'data' directory ... OK
* checking data for non-ASCII characters ... OK
* checking data for ASCII and uncompressed saves ... OK
* checking files in 'vignettes' ... OK
* checking examples ... OK
Examples with CPU (user + system) or elapsed time > 5s
             user system elapsed
runFastHeinz 7.22   0.17    7.39
* checking for unstated dependencies in vignettes ... OK
* checking package vignettes in 'inst/doc' ... OK
* checking running R code from vignettes ... SKIPPED
* checking re-building of vignette outputs ... SKIPPED
* checking PDF version of manual ... OK
* DONE

Status: 2 NOTEs
See
  'D:/biocbuild/bbs-3.15-bioc/meat/BioNet.Rcheck/00check.log'
for details.



Installation output

BioNet.Rcheck/00install.out

##############################################################################
##############################################################################
###
### Running command:
###
###   D:\biocbuild\bbs-3.15-bioc\R\bin\R.exe CMD INSTALL BioNet
###
##############################################################################
##############################################################################


* installing to library 'D:/biocbuild/bbs-3.15-bioc/R/library'
* installing *source* package 'BioNet' ...
** using staged installation
** R
** data
** inst
** byte-compile and prepare package for lazy loading
** help
*** installing help indices
  converting help for package 'BioNet'
    finding HTML links ... done
    BioNet-package                          html  
    aggrPvals                               html  
    bumOptim                                html  
    compareNetworks                         html  
    consensusScores                         html  
    fbum                                    html  
    fbumLL                                  html  
    fdrThreshold                            html  
    fitBumModel                             html  
    getCompScores                           html  
    getEdgeList                             html  
    hist.bum                                html  
    largestComp                             html  
    largestScoreComp                        html  
    loadNetwork.sif                         html  
    loadNetwork.tab                         html  
    makeNetwork                             html  
    mapByVar                                html  
    permutateNodes                          html  
    piUpper                                 html  
    plot.bum                                html  
    plot3dModule                            html  
    plotLLSurface                           html  
    plotModule                              html  
    print.bum                               html  
    pvaluesExample                          html  
    readHeinzGraph                          html  
    readHeinzTree                           html  
    resamplingPvalues                       html  
    rmSelfLoops                             html  
    runFastHeinz                            html  
    runHeinz                                html  
    save3dModule                            html  
    saveNetwork                             html  
    scanFDR                                 html  
    scoreFunction                           html  
    scoreNodes                              html  
    scoreOffset                             html  
    sortedEdgeList                          html  
    subNetwork                              html  
    summary.bum                             html  
    writeHeinz                              html  
    writeHeinzEdges                         html  
    writeHeinzNodes                         html  
** building package indices
** installing vignettes
** testing if installed package can be loaded from temporary location
** testing if installed package can be loaded from final location
** testing if installed package keeps a record of temporary installation path
* DONE (BioNet)
Making 'packages.html' ...Warning in packageDescription(i, lib.loc = lib, fields = "Title", encoding = "UTF-8") :
  DESCRIPTION file of package 'frma' is missing or broken
 done

Tests output


Example timings

BioNet.Rcheck/BioNet-Ex.timings

nameusersystemelapsed
aggrPvals0.280.050.33
bumOptim0.580.010.59
compareNetworks0.610.030.65
consensusScores0.160.000.15
fbum000
fbumLL0.530.000.53
fdrThreshold0.550.000.55
fitBumModel0.810.070.87
getCompScores0.890.040.94
getEdgeList0.310.030.35
hist.bum0.830.040.86
largestComp0.720.030.75
largestScoreComp2.190.592.78
loadNetwork.sif000
makeNetwork0.010.000.01
mapByVar000
permutateNodes2.970.002.97
piUpper0.550.020.56
plot.bum0.810.000.82
plot3dModule1.330.031.36
plotLLSurface0.510.000.51
plotModule1.070.001.06
print.bum0.510.000.52
pvaluesExample000
readHeinzGraph0.160.000.16
readHeinzTree0.160.000.15
resamplingPvalues2.120.122.25
rmSelfLoops0.030.000.03
runFastHeinz7.220.177.39
save3dModule0.720.140.86
saveNetwork0.780.080.86
scanFDR0.690.000.69
scoreFunction0.560.030.59
scoreNodes1.340.071.41
scoreOffset0.570.000.56
sortedEdgeList1.860.011.88
subNetwork0.030.000.03
summary.bum0.540.000.55
writeHeinz1.270.081.34
writeHeinzEdges1.310.161.47
writeHeinzNodes0.970.000.97