Back to Multiple platform build/check report for BioC 3.15
A[B]CDEFGHIJKLMNOPQRSTUVWXYZ

This page was generated on 2021-11-25 14:04:49 -0500 (Thu, 25 Nov 2021).

BUILD results for BioNERO on riesling1

To the developers/maintainers of the BioNERO package:
- Please allow up to 24 hours (and sometimes 48 hours) for your latest push to git@git.bioconductor.org:packages/BioNERO.git to
reflect on this report. See How and When does the builder pull? When will my changes propagate? here for more information.
- Make sure to use the following settings in order to reproduce any error or warning you see on this page.

raw results

Package 184/2068HostnameOS / ArchINSTALLBUILDCHECKBUILD BIN
BioNERO 1.3.0  (landing page)
Fabricio Almeida-Silva
Snapshot Date: 2021-11-24 14:50:13 -0500 (Wed, 24 Nov 2021)
git_url: https://git.bioconductor.org/packages/BioNERO
git_branch: master
git_last_commit: 47d4c2a
git_last_commit_date: 2021-10-26 13:08:05 -0500 (Tue, 26 Oct 2021)
nebbiolo1Linux (Ubuntu 20.04.3 LTS) / x86_64  OK    OK    OK  UNNEEDED, same version is already published
riesling1Windows Server 2019 Standard / x64  OK    OK    OK    OK  
merida1macOS 10.14.6 Mojave / x86_64  OK    OK    OK    OK  UNNEEDED, same version is already published

Summary

Package: BioNERO
Version: 1.3.0
Command: chmod a+r BioNERO -R && D:\biocbuild\bbs-3.15-bioc\R\bin\R.exe CMD build --keep-empty-dirs --no-resave-data BioNERO
StartedAt: 2021-11-24 20:07:26 -0500 (Wed, 24 Nov 2021)
EndedAt: 2021-11-24 20:16:36 -0500 (Wed, 24 Nov 2021)
EllapsedTime: 549.8 seconds
RetCode: 0
Status:   OK  
PackageFile: BioNERO_1.3.0.tar.gz
PackageFileSize: 3.607 MiB

Command output

##############################################################################
##############################################################################
###
### Running command:
###
###   chmod a+r BioNERO -R && D:\biocbuild\bbs-3.15-bioc\R\bin\R.exe CMD build --keep-empty-dirs --no-resave-data BioNERO
###
##############################################################################
##############################################################################


* checking for file 'BioNERO/DESCRIPTION' ... OK
* preparing 'BioNERO':
* checking DESCRIPTION meta-information ... OK
* installing the package to build vignettes
* creating vignettes ... OK
* checking for LF line-endings in source and make files and shell scripts
* checking for empty or unneeded directories
* looking to see if a 'data/datalist' file should be added
* building 'BioNERO_1.3.0.tar.gz'