Back to Build/check report for BioC 3.19:   simplified   long
A[B]CDEFGHIJKLMNOPQRSTUVWXYZ

This page was generated on 2024-02-20 13:14:55 -0500 (Tue, 20 Feb 2024).

HostnameOSArch (*)R versionInstalled pkgs
nebbiolo1Linux (Ubuntu 22.04.3 LTS)x86_64R Under development (unstable) (2024-01-16 r85808) -- "Unsuffered Consequences" 4657
Click on any hostname to see more info about the system (e.g. compilers)      (*) as reported by 'uname -p', except on Windows and Mac OS X

Package 163/2244HostnameOS / ArchINSTALLBUILDCHECKBUILD BIN
BiFET 1.23.0  (landing page)
Ahrim Youn
Snapshot Date: 2024-02-19 14:10:08 -0500 (Mon, 19 Feb 2024)
git_url: https://git.bioconductor.org/packages/BiFET
git_branch: devel
git_last_commit: 511959c
git_last_commit_date: 2023-10-24 11:02:12 -0500 (Tue, 24 Oct 2023)
nebbiolo1Linux (Ubuntu 22.04.3 LTS) / x86_64  OK    OK    OK  UNNEEDED, same version is already published

BUILD results for BiFET on nebbiolo1


To the developers/maintainers of the BiFET package:
- Allow up to 24 hours (and sometimes 48 hours) for your latest push to git@git.bioconductor.org:packages/BiFET.git to reflect on this report. See Troubleshooting Build Report for more information.
- Use the following Renviron settings to reproduce errors and warnings.
- If 'R CMD check' started to fail recently on the Linux builder(s) over a missing dependency, add the missing dependency to 'Suggests:' in your DESCRIPTION file. See Renviron.bioc for more information.

raw results


Summary

Package: BiFET
Version: 1.23.0
Command: /home/biocbuild/bbs-3.19-bioc/R/bin/R CMD build --keep-empty-dirs --no-resave-data BiFET
StartedAt: 2024-02-19 16:07:14 -0500 (Mon, 19 Feb 2024)
EndedAt: 2024-02-19 16:08:04 -0500 (Mon, 19 Feb 2024)
EllapsedTime: 50.2 seconds
RetCode: 0
Status:   OK  
PackageFile: BiFET_1.23.0.tar.gz
PackageFileSize: 644.1 KiB

Command output

##############################################################################
##############################################################################
###
### Running command:
###
###   /home/biocbuild/bbs-3.19-bioc/R/bin/R CMD build --keep-empty-dirs --no-resave-data BiFET
###
##############################################################################
##############################################################################


* checking for file ‘BiFET/DESCRIPTION’ ... OK
* preparing ‘BiFET’:
* checking DESCRIPTION meta-information ... OK
* installing the package to build vignettes
* creating vignettes ... OK
* checking for LF line-endings in source and make files and shell scripts
* checking for empty or unneeded directories
Omitted ‘LazyData’ from DESCRIPTION
  NB: this package now depends on R (>= 3.5.0)
  WARNING: Added dependency on R >= 3.5.0 because serialized objects in
  serialize/load version 3 cannot be read in older versions of R.
  File(s) containing such objects:
    ‘BiFET/inst/extdata/input_peak_motif.Rdata’
* building ‘BiFET_1.23.0.tar.gz’