Index of /checkResults/devel/bioc-LATEST/BgeeDB/raw-results

[ICO]NameLast modifiedSizeDescription

[DIR]Parent Directory  -  
[   ]info.dcf18-May-2024 00:35 393  
[DIR]kunpeng2/16-May-2024 02:46 -  
[DIR]merida1/18-May-2024 00:38 -  
[DIR]nebbiolo2/18-May-2024 00:36 -  
[DIR]palomino4/18-May-2024 00:37 -