Index of /checkResults/devel/bioc-LATEST/BeadDataPackR/raw-results/merida1

[ICO]NameLast modifiedSizeDescription

[DIR]Parent Directory  -  
[TXT]buildbin-out.txt02-Mar-2024 01:38 4.0K 
[   ]buildbin-summary.dcf02-Mar-2024 01:38 566  
[TXT]buildsrc-out.txt02-Mar-2024 01:38 870  
[   ]buildsrc-summary.dcf02-Mar-2024 01:38 445  
[TXT]checksrc-out.txt02-Mar-2024 01:38 3.5K 
[   ]checksrc-summary.dcf02-Mar-2024 01:38 467  
[TXT]install-out.txt02-Mar-2024 01:38 2.0K 
[   ]install-summary.dcf02-Mar-2024 01:38 281