Index of /checkResults/devel/bioc-LATEST/BeadDataPackR/raw-results/kunpeng2

[ICO]NameLast modifiedSizeDescription

[DIR]Parent Directory  -  
[   ]checksrc-summary.dcf29-Mar-2024 00:40 470  
[TXT]checksrc-out.txt29-Mar-2024 00:40 3.4K 
[   ]buildsrc-summary.dcf29-Mar-2024 00:40 443  
[TXT]buildsrc-out.txt29-Mar-2024 00:40 869  
[   ]install-summary.dcf29-Mar-2024 00:40 280  
[TXT]install-out.txt29-Mar-2024 00:40 1.7K