![]() | Name | Last modified | Size | Description |
---|---|---|---|---|
![]() | Parent Directory | - | ||
![]() | buildsrc-out.txt | 07-Dec-2023 01:39 | 869 | |
![]() | buildsrc-summary.dcf | 07-Dec-2023 01:39 | 443 | |
![]() | checksrc-out.txt | 07-Dec-2023 01:39 | 3.4K | |
![]() | checksrc-summary.dcf | 07-Dec-2023 01:39 | 470 | |
![]() | install-out.txt | 07-Dec-2023 01:39 | 1.6K | |
![]() | install-summary.dcf | 07-Dec-2023 01:39 | 280 | |