Index of /checkResults/devel/bioc-LATEST/BeadDataPackR/raw-results
Name
Last modified
Size
Description
Parent Directory
-
nebbiolo1/
29-Nov-2023 01:35
-
palomino3/
29-Nov-2023 01:36
-
merida1/
29-Nov-2023 01:37
-
info.dcf
29-Nov-2023 01:38
1.1K
kunpeng2/
29-Nov-2023 01:38
-