Index of /checkResults/devel/bioc-LATEST/BayesSpace/raw-results/riesling1

[ICO]NameLast modifiedSizeDescription

[DIR]Parent Directory  -  
[TXT]buildbin-out.txt25-Jan-2022 01:06 4.5K 
[   ]buildbin-summary.dcf25-Jan-2022 01:06 530  
[TXT]buildsrc-out.txt25-Jan-2022 01:06 885  
[   ]buildsrc-summary.dcf25-Jan-2022 01:06 461  
[TXT]checksrc-out.txt25-Jan-2022 01:06 4.2K 
[   ]checksrc-summary.dcf25-Jan-2022 01:06 457  
[TXT]install-out.txt25-Jan-2022 01:06 4.6K 
[   ]install-summary.dcf25-Jan-2022 01:06 273