Name | Last modified | Size | Description | |
---|---|---|---|---|
Parent Directory | - | |||
install-summary.dcf | 12-Jun-2024 04:40 | 274 | ||
checksrc-summary.dcf | 12-Jun-2024 04:40 | 459 | ||
buildsrc-summary.dcf | 12-Jun-2024 04:40 | 464 | ||
buildbin-summary.dcf | 12-Jun-2024 04:40 | 534 | ||
buildsrc-out.txt | 12-Jun-2024 04:40 | 886 | ||
install-out.txt | 12-Jun-2024 04:40 | 2.3K | ||
buildbin-out.txt | 12-Jun-2024 04:40 | 2.5K | ||
checksrc-out.txt | 12-Jun-2024 04:40 | 4.8K | ||