![]() | Name | Last modified | Size | Description |
---|---|---|---|---|
![]() | Parent Directory | - | ||
![]() | install-out.txt | 07-Aug-2022 00:04 | 2.1K | |
![]() | install-summary.dcf | 07-Aug-2022 00:04 | 264 | |
![]() | buildsrc-out.txt | 07-Aug-2022 00:04 | 847 | |
![]() | buildsrc-summary.dcf | 07-Aug-2022 00:04 | 425 | |
![]() | checksrc-out.txt | 07-Aug-2022 00:04 | 3.7K | |
![]() | checksrc-summary.dcf | 07-Aug-2022 00:04 | 434 | |