Name | Last modified | Size | Description | |
---|---|---|---|---|
Parent Directory | - | |||
install-summary.dcf | 29-Mar-2024 00:36 | 265 | ||
checksrc-summary.dcf | 29-Mar-2024 00:36 | 426 | ||
buildsrc-summary.dcf | 29-Mar-2024 00:36 | 427 | ||
buildsrc-out.txt | 29-Mar-2024 00:36 | 848 | ||
install-out.txt | 29-Mar-2024 00:36 | 2.2K | ||
checksrc-out.txt | 29-Mar-2024 00:36 | 4.3K | ||