Index of /checkResults/devel/bioc-LATEST/BayesSpace/raw-results/nebbiolo1

[ICO]NameLast modifiedSizeDescription

[DIR]Parent Directory  -  
[TXT]buildsrc-out.txt24-Mar-2023 00:05 847  
[   ]buildsrc-summary.dcf24-Mar-2023 00:05 425  
[TXT]checksrc-out.txt24-Mar-2023 00:05 4.0K 
[   ]checksrc-summary.dcf24-Mar-2023 00:05 424  
[TXT]install-out.txt24-Mar-2023 00:05 2.2K 
[   ]install-summary.dcf24-Mar-2023 00:05 264