![]() | Name | Last modified | Size | Description |
---|---|---|---|---|
![]() | Parent Directory | - | ||
![]() | buildbin-out.txt | 30-Mar-2023 00:06 | 4.2K | |
![]() | buildbin-summary.dcf | 30-Mar-2023 00:06 | 546 | |
![]() | buildsrc-out.txt | 30-Mar-2023 00:06 | 857 | |
![]() | buildsrc-summary.dcf | 30-Mar-2023 00:06 | 435 | |
![]() | checksrc-out.txt | 30-Mar-2023 00:06 | 4.0K | |
![]() | checksrc-summary.dcf | 30-Mar-2023 00:06 | 454 | |
![]() | install-out.txt | 30-Mar-2023 00:06 | 2.9K | |
![]() | install-summary.dcf | 30-Mar-2023 00:06 | 275 | |