Index of /checkResults/devel/bioc-LATEST/BayesSpace/raw-results/lconway

[ICO]NameLast modifiedSizeDescription

[DIR]Parent Directory  -  
[   ]install-summary.dcf14-Aug-2022 00:07 274  
[   ]buildsrc-summary.dcf14-Aug-2022 00:07 435  
[   ]checksrc-summary.dcf14-Aug-2022 00:07 454  
[   ]buildbin-summary.dcf14-Aug-2022 00:07 545  
[TXT]buildsrc-out.txt14-Aug-2022 00:07 857  
[TXT]install-out.txt14-Aug-2022 00:07 3.1K 
[TXT]checksrc-out.txt14-Aug-2022 00:07 3.6K 
[TXT]buildbin-out.txt14-Aug-2022 00:07 4.4K