Index of /checkResults/devel/bioc-LATEST/BayesSpace/raw-results/lconway

[ICO]NameLast modifiedSizeDescription

[DIR]Parent Directory  -  
[TXT]buildbin-out.txt02-Jul-2022 00:07 4.4K 
[   ]buildbin-summary.dcf02-Jul-2022 00:07 545  
[TXT]buildsrc-out.txt02-Jul-2022 00:07 857  
[   ]buildsrc-summary.dcf02-Jul-2022 00:07 435  
[TXT]checksrc-out.txt02-Jul-2022 00:07 3.6K 
[   ]checksrc-summary.dcf02-Jul-2022 00:07 454  
[TXT]install-out.txt02-Jul-2022 00:07 3.1K 
[   ]install-summary.dcf02-Jul-2022 00:07 274