Back to Multiple platform build/check report for BioC 3.15
A[B]CDEFGHIJKLMNOPQRSTUVWXYZ

This page was generated on 2021-11-30 13:54:44 -0500 (Tue, 30 Nov 2021).

BUILD results for BatchQC on riesling1

To the developers/maintainers of the BatchQC package:
- Please allow up to 24 hours (and sometimes 48 hours) for your latest push to git@git.bioconductor.org:packages/BatchQC.git to
reflect on this report. See How and When does the builder pull? When will my changes propagate? here for more information.
- Make sure to use the following settings in order to reproduce any error or warning you see on this page.

raw results

Package 120/2068HostnameOS / ArchINSTALLBUILDCHECKBUILD BIN
BatchQC 1.23.0  (landing page)
Solaiappan Manimaran
Snapshot Date: 2021-11-29 14:50:17 -0500 (Mon, 29 Nov 2021)
git_url: https://git.bioconductor.org/packages/BatchQC
git_branch: master
git_last_commit: f41d5d9
git_last_commit_date: 2021-10-26 12:27:06 -0500 (Tue, 26 Oct 2021)
nebbiolo1Linux (Ubuntu 20.04.3 LTS) / x86_64  OK    OK    OK  UNNEEDED, same version is already published
riesling1Windows Server 2019 Standard / x64  OK    OK    OK    OK  
merida1macOS 10.14.6 Mojave / x86_64  OK    OK    OK    OK  UNNEEDED, same version is already published

Summary

Package: BatchQC
Version: 1.23.0
Command: chmod a+r BatchQC -R && D:\biocbuild\bbs-3.15-bioc\R\bin\R.exe CMD build --keep-empty-dirs --no-resave-data BatchQC
StartedAt: 2021-11-29 20:04:57 -0500 (Mon, 29 Nov 2021)
EndedAt: 2021-11-29 20:09:56 -0500 (Mon, 29 Nov 2021)
EllapsedTime: 298.9 seconds
RetCode: 0
Status:   OK  
PackageFile: BatchQC_1.23.0.tar.gz
PackageFileSize: 1.464 MiB

Command output

##############################################################################
##############################################################################
###
### Running command:
###
###   chmod a+r BatchQC -R && D:\biocbuild\bbs-3.15-bioc\R\bin\R.exe CMD build --keep-empty-dirs --no-resave-data BatchQC
###
##############################################################################
##############################################################################


* checking for file 'BatchQC/DESCRIPTION' ... OK
* preparing 'BatchQC':
* checking DESCRIPTION meta-information ... OK
* installing the package to build vignettes
* creating vignettes ... OK
* checking for LF line-endings in source and make files and shell scripts
* checking for empty or unneeded directories
* looking to see if a 'data/datalist' file should be added
* building 'BatchQC_1.23.0.tar.gz'