Name | Last modified | Size | Description | |
---|---|---|---|---|
Parent Directory | - | |||
install-summary.dcf | 12-Jun-2024 04:40 | 267 | ||
checksrc-summary.dcf | 12-Jun-2024 04:40 | 445 | ||
buildsrc-summary.dcf | 12-Jun-2024 04:40 | 451 | ||
buildbin-summary.dcf | 12-Jun-2024 04:40 | 513 | ||
buildsrc-out.txt | 12-Jun-2024 04:40 | 898 | ||
install-out.txt | 12-Jun-2024 04:40 | 971 | ||
buildbin-out.txt | 12-Jun-2024 04:40 | 1.1K | ||
checksrc-out.txt | 12-Jun-2024 04:40 | 3.6K | ||