Name | Last modified | Size | Description | |
---|---|---|---|---|
Parent Directory | - | |||
buildsrc-out.txt | 18-Jul-2024 00:38 | 892 | ||
buildsrc-summary.dcf | 18-Jul-2024 00:38 | 420 | ||
checksrc-out.txt | 18-Jul-2024 00:38 | 3.6K | ||
checksrc-summary.dcf | 18-Jul-2024 00:38 | 412 | ||
install-out.txt | 18-Jul-2024 00:38 | 960 | ||
install-summary.dcf | 18-Jul-2024 00:38 | 258 | ||