Name | Last modified | Size | Description | |
---|---|---|---|---|
Parent Directory | - | |||
buildbin-summary.dcf | 12-Jun-2024 04:41 | 566 | ||
buildbin-out.txt | 12-Jun-2024 04:41 | 1.3K | ||
checksrc-summary.dcf | 12-Jun-2024 04:41 | 468 | ||
checksrc-out.txt | 12-Jun-2024 04:41 | 3.4K | ||
buildsrc-summary.dcf | 12-Jun-2024 04:41 | 445 | ||
buildsrc-out.txt | 12-Jun-2024 04:41 | 880 | ||
install-summary.dcf | 12-Jun-2024 04:41 | 281 | ||
install-out.txt | 12-Jun-2024 04:41 | 1.1K | ||