Index of /checkResults/devel/bioc-LATEST/BasicSTARRseq/raw-results/merida1

[ICO]NameLast modifiedSizeDescription

[DIR]Parent Directory  -  
[TXT]buildbin-out.txt31-May-2024 01:36 1.3K 
[   ]buildbin-summary.dcf31-May-2024 01:36 566  
[TXT]buildsrc-out.txt31-May-2024 01:36 880  
[   ]buildsrc-summary.dcf31-May-2024 01:36 445  
[TXT]checksrc-out.txt31-May-2024 01:36 3.4K 
[   ]checksrc-summary.dcf31-May-2024 01:36 468  
[TXT]install-out.txt31-May-2024 01:36 1.1K 
[   ]install-summary.dcf31-May-2024 01:36 281