Name | Last modified | Size | Description | |
---|---|---|---|---|
Parent Directory | - | |||
checksrc-out.txt | 09-Jul-2024 00:44 | 3.4K | ||
install-out.txt | 07-Jul-2024 00:44 | 1.0K | ||
buildsrc-out.txt | 09-Jul-2024 00:44 | 858 | ||
checksrc-summary.dcf | 09-Jul-2024 00:44 | 429 | ||
buildsrc-summary.dcf | 09-Jul-2024 00:44 | 423 | ||
install-summary.dcf | 07-Jul-2024 00:44 | 259 | ||