Index of /checkResults/devel/bioc-LATEST/BasicSTARRseq/raw-results/kjohnson3

[ICO]NameLast modifiedSizeDescription

[DIR]Parent Directory  -  
[TXT]buildbin-out.txt18-Jul-2024 00:42 1.3K 
[   ]buildbin-summary.dcf18-Jul-2024 00:42 566  
[TXT]buildsrc-out.txt18-Jul-2024 00:42 880  
[   ]buildsrc-summary.dcf18-Jul-2024 00:42 445  
[TXT]checksrc-out.txt18-Jul-2024 00:42 3.4K 
[   ]checksrc-summary.dcf18-Jul-2024 00:42 467  
[TXT]install-out.txt18-Jul-2024 00:42 1.1K 
[   ]install-summary.dcf18-Jul-2024 00:42 280