![]() | Name | Last modified | Size | Description |
---|---|---|---|---|
![]() | Parent Directory | - | ||
![]() | buildsrc-out.txt | 30-Sep-2023 01:02 | 881 | |
![]() | buildsrc-summary.dcf | 30-Sep-2023 01:02 | 426 | |
![]() | checksrc-out.txt | 30-Sep-2023 01:02 | 3.4K | |
![]() | checksrc-summary.dcf | 30-Sep-2023 01:02 | 426 | |
![]() | install-out.txt | 30-Sep-2023 01:02 | 969 | |
![]() | install-summary.dcf | 30-Sep-2023 01:02 | 265 | |