Index of /checkResults/devel/bioc-LATEST/Basic4Cseq/raw-results/kunpeng2

[ICO]NameLast modifiedSizeDescription

[DIR]Parent Directory  -  
[TXT]buildsrc-out.txt29-Mar-2024 00:40 890  
[   ]buildsrc-summary.dcf29-Mar-2024 00:40 435  
[TXT]checksrc-out.txt29-Mar-2024 00:40 3.4K 
[   ]checksrc-summary.dcf29-Mar-2024 00:40 459  
[TXT]install-out.txt29-Mar-2024 00:40 1.0K 
[   ]install-summary.dcf29-Mar-2024 00:40 274