![]() | Name | Last modified | Size | Description |
---|---|---|---|---|
![]() | Parent Directory | - | ||
![]() | buildsrc-out.txt | 04-Oct-2023 00:36 | 863 | |
![]() | buildsrc-summary.dcf | 04-Oct-2023 00:36 | 412 | |
![]() | checksrc-out.txt | 04-Oct-2023 00:36 | 3.9K | |
![]() | checksrc-summary.dcf | 04-Oct-2023 00:36 | 408 | |
![]() | install-out.txt | 04-Oct-2023 00:36 | 2.8K | |
![]() | install-summary.dcf | 04-Oct-2023 00:36 | 256 | |