![]() | Name | Last modified | Size | Description |
---|---|---|---|---|
![]() | Parent Directory | - | ||
![]() | buildbin-out.txt | 05-Oct-2023 00:38 | 6.4K | |
![]() | buildbin-summary.dcf | 05-Oct-2023 00:38 | 521 | |
![]() | buildsrc-out.txt | 05-Oct-2023 00:38 | 873 | |
![]() | buildsrc-summary.dcf | 05-Oct-2023 00:38 | 422 | |
![]() | checksrc-out.txt | 05-Oct-2023 00:38 | 4.0K | |
![]() | checksrc-summary.dcf | 05-Oct-2023 00:38 | 438 | |
![]() | install-out.txt | 05-Oct-2023 00:38 | 2.7K | |
![]() | install-summary.dcf | 05-Oct-2023 00:38 | 266 | |