Index of /checkResults/devel/bioc-LATEST/BUSseq/raw-results/kjohnson1
Name
Last modified
Size
Description
Parent Directory
-
buildsrc-out.txt
12-Jun-2024 04:42
1.6K
buildsrc-summary.dcf
12-Jun-2024 04:42
341
install-out.txt
12-Jun-2024 04:42
2.6K
install-summary.dcf
12-Jun-2024 04:42
267