Index of /checkResults/devel/bioc-LATEST/BUSseq/raw-results

[ICO]NameLast modifiedSizeDescription

[DIR]Parent Directory  -  
[DIR]nebbiolo2/23-Sep-2023 00:36 -  
[DIR]palomino4/23-Sep-2023 00:37 -  
[DIR]lconway/23-Sep-2023 00:38 -  
[   ]info.dcf23-Sep-2023 00:40 260  
[DIR]kunpeng2/23-Sep-2023 00:40 -