Index of /checkResults/devel/bioc-LATEST/BUSpaRse/raw-results/nebbiolo2

[ICO]NameLast modifiedSizeDescription

[DIR]Parent Directory  -  
[TXT]buildsrc-out.txt07-Aug-2022 00:04 840  
[   ]buildsrc-summary.dcf07-Aug-2022 00:04 421  
[TXT]checksrc-out.txt07-Aug-2022 00:04 4.8K 
[   ]checksrc-summary.dcf07-Aug-2022 00:04 432  
[TXT]install-out.txt07-Aug-2022 00:04 3.4K 
[   ]install-summary.dcf07-Aug-2022 00:04 261