![]() | Name | Last modified | Size | Description |
---|---|---|---|---|
![]() | Parent Directory | - | ||
![]() | buildsrc-out.txt | 02-Jul-2022 00:04 | 840 | |
![]() | buildsrc-summary.dcf | 02-Jul-2022 00:04 | 421 | |
![]() | checksrc-out.txt | 02-Jul-2022 00:04 | 4.8K | |
![]() | checksrc-summary.dcf | 02-Jul-2022 00:04 | 432 | |
![]() | install-out.txt | 02-Jul-2022 00:04 | 3.4K | |
![]() | install-summary.dcf | 02-Jul-2022 00:04 | 261 | |