Index of /checkResults/devel/bioc-LATEST/BUSpaRse/raw-results/lconway

[ICO]NameLast modifiedSizeDescription

[DIR]Parent Directory  -  
[TXT]buildbin-out.txt25-Jun-2022 00:07 4.4K 
[   ]buildbin-summary.dcf25-Jun-2022 00:07 536  
[TXT]buildsrc-out.txt25-Jun-2022 00:07 850  
[   ]buildsrc-summary.dcf25-Jun-2022 00:07 431  
[TXT]checksrc-out.txt25-Jun-2022 00:07 4.9K 
[   ]checksrc-summary.dcf25-Jun-2022 00:07 452  
[TXT]install-out.txt25-Jun-2022 00:07 3.1K 
[   ]install-summary.dcf25-Jun-2022 00:07 271