Name | Last modified | Size | Description | |
---|---|---|---|---|
Parent Directory | - | |||
install-summary.dcf | 28-Jul-2024 00:42 | 271 | ||
install-out.txt | 28-Jul-2024 00:42 | 2.9K | ||
checksrc-summary.dcf | 28-Jul-2024 00:42 | 452 | ||
checksrc-out.txt | 28-Jul-2024 00:42 | 5.2K | ||
buildsrc-summary.dcf | 28-Jul-2024 00:42 | 430 | ||
buildsrc-out.txt | 28-Jul-2024 00:42 | 850 | ||
buildbin-summary.dcf | 28-Jul-2024 00:42 | 536 | ||
buildbin-out.txt | 28-Jul-2024 00:42 | 6.5K | ||