Index of /checkResults/devel/bioc-LATEST/BRAIN/raw-results/nebbiolo2

[ICO]NameLast modifiedSizeDescription

[DIR]Parent Directory  -  
[TXT]buildsrc-out.txt23-Sep-2023 00:36 798  
[   ]buildsrc-summary.dcf23-Sep-2023 00:36 411  
[TXT]checksrc-out.txt23-Sep-2023 00:36 4.4K 
[   ]checksrc-summary.dcf23-Sep-2023 00:36 411  
[TXT]install-out.txt23-Sep-2023 00:36 946  
[   ]install-summary.dcf23-Sep-2023 00:36 255